BEGIN:VCALENDAR
VERSION:2.0
PRODID:icalendar-ruby
CALSCALE:GREGORIAN
METHOD:PUBLISH
BEGIN:VEVENT
DTSTAMP:20260426T042744Z
UID:6-451314@annstreet180.tithelysetup5.com
DTSTART:20261004T140000Z
DTEND:20261004T150000Z
CLASS:PUBLIC
CREATED:20260425T220114
DESCRIPTION:For a list of the events for this month.  Click Here
LAST-MODIFIED:20260425T220114
LOCATION:Ann Street United Methodist Church 
SUMMARY:Sunday Worship
URL;VALUE=URI:https://annstreetumc.org/events/sunday-worship--6/2026-10-04
END:VEVENT
END:VCALENDAR
